BEGIN:VCALENDAR
VERSION:2.0
PRODID:-//ChamberMaster//Event Calendar 2.0//EN
METHOD:PUBLISH
X-PUBLISHED-TTL:P3D
REFRESH-INTERVAL:P3D
CALSCALE:GREGORIAN
BEGIN:VEVENT
DTSTART:20220414T114500Z
DTEND:20220414T130000Z
X-MICROSOFT-CDO-ALLDAYEVENT:FALSE
SUMMARY:Next Level Networking Breakfast
DESCRIPTION:Step up your networking game at our Next Level Networking Event. Share about yourself and your business in several different formats in this fast-paced event   leave with a list of all contacts and a boosted energy level!
X-ALT-DESC;FMTTYPE=text/html:<span style="font-size:14px\;"><span style="font-family:arial\;">Step up your networking game at our Next Level Networking Event. Share about yourself and your business in several different formats in this fast-paced event &ndash\; leave with a list of all contacts and a boosted energy level!&nbsp\;</span></span><br />\n&nbsp\;
LOCATION:1905 Riverside Pkwy Douglasville\, GA 30135
UID:e.184.13111
SEQUENCE:3
DTSTAMP:20260424T233304Z
URL:http://douglascountychamber.chambermaster.com/events/details/next-level-networking-breakfast-13111
END:VEVENT

END:VCALENDAR
